Workbook

Sheet Valuation
A1: NVIDIA (NVDA) — valuation summary
A2: Phat Ngo · Initiation · prices as of 2026-10-16 · personal research, not investment advice
A4: Scenario | B4: Probability | C4: Value / share | D4: vs price
A5: Bear | B5: =Inputs!$C$39 | C5: =Model!$C$35 | D5: =C5/Inputs!$C$4-1
A6: Base | B6: =Inputs!$C$40 | C6: =Model!$C$71 | D6: =C6/Inputs!$C$4-1
A7: Bull | B7: =Inputs!$C$41 | C7: =Model!$C$107 | D7: =C7/Inputs!$C$4-1
A9: Probability-weighted fair value ($) | C9: =SUMPRODUCT(B5:B7,C5:C7)
A10: Current price ($) | C10: =Inputs!$C$4
A11: Upside to fair value | C11: =C9/C10-1
A12: Hurdle: cost of equity | C12: =Inputs!$C$26
A13: Premium required for Bullish / Bearish (pts a year) | C13: 0.02
A14: Expected annual return, 5-year convergence | C14: =(C9/C10)^(1/5)*(1+C12)-1
A15: Expected annual return, 3-year convergence | C15: =(C9/C10)^(1/3)*(1+C12)-1
A16: Call, 3-5 year view (longest horizon) | C16: =IF(((C9/C10)^(1/5)*(1+C12)-1-C12)>=C13,"Bullish",IF(((C9/C10)^(1/5)*(1+C12)-1-C12)<=-C13,"Bearish","Neutral"))
A17: Price below which the rule reads Bullish ($) | C17: =C9/((1+C12+C13)/(1+C12))^5
A18: Price above which the rule reads Bearish ($) | C18: =C9/((1+C12-C13)/(1+C12))^5
A19: Weights sum check (must be 100%) | C19: =SUM(B5:B7)
A21: Base case: value per share by WACC (rows) and FY2035 EV/EBITDA exit multiple (columns)
A22: WACC \ exit multiple | B22: 9 | C22: 11 | D22: 13 | E22: 15 | F22: 17
A23: 0.1 | B23: =MAX(0,(SUMPRODUCT(Model!$C$57:$J$57,(1+$A23)^(-Model!$C$58:$J$58))+Inputs!$C$16+Model!$J$53*B$22*(1+$A23)^(-(Model!$J$58+0.5))+Inputs!$C$46)*1000/Inputs!$C$5) | C23: =MAX(0,(SUMPRODUCT(Model!$C$57:$J$57,(1+$A23)^(-Model!$C$58:$J$58))+Inputs!$C$16+Model!$J$53*C$22*(1+$A23)^(-(Model!$J$58+0.5))+Inputs!$C$46)*1000/Inputs!$C$5) | D23: =MAX(0,(SUMPRODUCT(Model!$C$57:$J$57,(1+$A23)^(-Model!$C$58:$J$58))+Inputs!$C$16+Model!$J$53*D$22*(1+$A23)^(-(Model!$J$58+0.5))+Inputs!$C$46)*1000/Inputs!$C$5) | E23: =MAX(0,(SUMPRODUCT(Model!$C$57:$J$57,(1+$A23)^(-Model!$C$58:$J$58))+Inputs!$C$16+Model!$J$53*E$22*(1+$A23)^(-(Model!$J$58+0.5))+Inputs!$C$46)*1000/Inputs!$C$5) | F23: =MAX(0,(SUMPRODUCT(Model!$C$57:$J$57,(1+$A23)^(-Model!$C$58:$J$58))+Inputs!$C$16+Model!$J$53*F$22*(1+$A23)^(-(Model!$J$58+0.5))+Inputs!$C$46)*1000/Inputs!$C$5)
A24: 0.11 | B24: =MAX(0,(SUMPRODUCT(Model!$C$57:$J$57,(1+$A24)^(-Model!$C$58:$J$58))+Inputs!$C$16+Model!$J$53*B$22*(1+$A24)^(-(Model!$J$58+0.5))+Inputs!$C$46)*1000/Inputs!$C$5) | C24: =MAX(0,(SUMPRODUCT(Model!$C$57:$J$57,(1+$A24)^(-Model!$C$58:$J$58))+Inputs!$C$16+Model!$J$53*C$22*(1+$A24)^(-(Model!$J$58+0.5))+Inputs!$C$46)*1000/Inputs!$C$5) | D24: =MAX(0,(SUMPRODUCT(Model!$C$57:$J$57,(1+$A24)^(-Model!$C$58:$J$58))+Inputs!$C$16+Model!$J$53*D$22*(1+$A24)^(-(Model!$J$58+0.5))+Inputs!$C$46)*1000/Inputs!$C$5) | E24: =MAX(0,(SUMPRODUCT(Model!$C$57:$J$57,(1+$A24)^(-Model!$C$58:$J$58))+Inputs!$C$16+Model!$J$53*E$22*(1+$A24)^(-(Model!$J$58+0.5))+Inputs!$C$46)*1000/Inputs!$C$5) | F24: =MAX(0,(SUMPRODUCT(Model!$C$57:$J$57,(1+$A24)^(-Model!$C$58:$J$58))+Inputs!$C$16+Model!$J$53*F$22*(1+$A24)^(-(Model!$J$58+0.5))+Inputs!$C$46)*1000/Inputs!$C$5)
A25: 0.12 | B25: =MAX(0,(SUMPRODUCT(Model!$C$57:$J$57,(1+$A25)^(-Model!$C$58:$J$58))+Inputs!$C$16+Model!$J$53*B$22*(1+$A25)^(-(Model!$J$58+0.5))+Inputs!$C$46)*1000/Inputs!$C$5) | C25: =MAX(0,(SUMPRODUCT(Model!$C$57:$J$57,(1+$A25)^(-Model!$C$58:$J$58))+Inputs!$C$16+Model!$J$53*C$22*(1+$A25)^(-(Model!$J$58+0.5))+Inputs!$C$46)*1000/Inputs!$C$5) | D25: =MAX(0,(SUMPRODUCT(Model!$C$57:$J$57,(1+$A25)^(-Model!$C$58:$J$58))+Inputs!$C$16+Model!$J$53*D$22*(1+$A25)^(-(Model!$J$58+0.5))+Inputs!$C$46)*1000/Inputs!$C$5) | E25: =MAX(0,(SUMPRODUCT(Model!$C$57:$J$57,(1+$A25)^(-Model!$C$58:$J$58))+Inputs!$C$16+Model!$J$53*E$22*(1+$A25)^(-(Model!$J$58+0.5))+Inputs!$C$46)*1000/Inputs!$C$5) | F25: =MAX(0,(SUMPRODUCT(Model!$C$57:$J$57,(1+$A25)^(-Model!$C$58:$J$58))+Inputs!$C$16+Model!$J$53*F$22*(1+$A25)^(-(Model!$J$58+0.5))+Inputs!$C$46)*1000/Inputs!$C$5)
A26: 0.131 | B26: =MAX(0,(SUMPRODUCT(Model!$C$57:$J$57,(1+$A26)^(-Model!$C$58:$J$58))+Inputs!$C$16+Model!$J$53*B$22*(1+$A26)^(-(Model!$J$58+0.5))+Inputs!$C$46)*1000/Inputs!$C$5) | C26: =MAX(0,(SUMPRODUCT(Model!$C$57:$J$57,(1+$A26)^(-Model!$C$58:$J$58))+Inputs!$C$16+Model!$J$53*C$22*(1+$A26)^(-(Model!$J$58+0.5))+Inputs!$C$46)*1000/Inputs!$C$5) | D26: =MAX(0,(SUMPRODUCT(Model!$C$57:$J$57,(1+$A26)^(-Model!$C$58:$J$58))+Inputs!$C$16+Model!$J$53*D$22*(1+$A26)^(-(Model!$J$58+0.5))+Inputs!$C$46)*1000/Inputs!$C$5) | E26: =MAX(0,(SUMPRODUCT(Model!$C$57:$J$57,(1+$A26)^(-Model!$C$58:$J$58))+Inputs!$C$16+Model!$J$53*E$22*(1+$A26)^(-(Model!$J$58+0.5))+Inputs!$C$46)*1000/Inputs!$C$5) | F26: =MAX(0,(SUMPRODUCT(Model!$C$57:$J$57,(1+$A26)^(-Model!$C$58:$J$58))+Inputs!$C$16+Model!$J$53*F$22*(1+$A26)^(-(Model!$J$58+0.5))+Inputs!$C$46)*1000/Inputs!$C$5)
A27: 0.14 | B27: =MAX(0,(SUMPRODUCT(Model!$C$57:$J$57,(1+$A27)^(-Model!$C$58:$J$58))+Inputs!$C$16+Model!$J$53*B$22*(1+$A27)^(-(Model!$J$58+0.5))+Inputs!$C$46)*1000/Inputs!$C$5) | C27: =MAX(0,(SUMPRODUCT(Model!$C$57:$J$57,(1+$A27)^(-Model!$C$58:$J$58))+Inputs!$C$16+Model!$J$53*C$22*(1+$A27)^(-(Model!$J$58+0.5))+Inputs!$C$46)*1000/Inputs!$C$5) | D27: =MAX(0,(SUMPRODUCT(Model!$C$57:$J$57,(1+$A27)^(-Model!$C$58:$J$58))+Inputs!$C$16+Model!$J$53*D$22*(1+$A27)^(-(Model!$J$58+0.5))+Inputs!$C$46)*1000/Inputs!$C$5) | E27: =MAX(0,(SUMPRODUCT(Model!$C$57:$J$57,(1+$A27)^(-Model!$C$58:$J$58))+Inputs!$C$16+Model!$J$53*E$22*(1+$A27)^(-(Model!$J$58+0.5))+Inputs!$C$46)*1000/Inputs!$C$5) | F27: =MAX(0,(SUMPRODUCT(Model!$C$57:$J$57,(1+$A27)^(-Model!$C$58:$J$58))+Inputs!$C$16+Model!$J$53*F$22*(1+$A27)^(-(Model!$J$58+0.5))+Inputs!$C$46)*1000/Inputs!$C$5)
A28: 0.15 | B28: =MAX(0,(SUMPRODUCT(Model!$C$57:$J$57,(1+$A28)^(-Model!$C$58:$J$58))+Inputs!$C$16+Model!$J$53*B$22*(1+$A28)^(-(Model!$J$58+0.5))+Inputs!$C$46)*1000/Inputs!$C$5) | C28: =MAX(0,(SUMPRODUCT(Model!$C$57:$J$57,(1+$A28)^(-Model!$C$58:$J$58))+Inputs!$C$16+Model!$J$53*C$22*(1+$A28)^(-(Model!$J$58+0.5))+Inputs!$C$46)*1000/Inputs!$C$5) | D28: =MAX(0,(SUMPRODUCT(Model!$C$57:$J$57,(1+$A28)^(-Model!$C$58:$J$58))+Inputs!$C$16+Model!$J$53*D$22*(1+$A28)^(-(Model!$J$58+0.5))+Inputs!$C$46)*1000/Inputs!$C$5) | E28: =MAX(0,(SUMPRODUCT(Model!$C$57:$J$57,(1+$A28)^(-Model!$C$58:$J$58))+Inputs!$C$16+Model!$J$53*E$22*(1+$A28)^(-(Model!$J$58+0.5))+Inputs!$C$46)*1000/Inputs!$C$5) | F28: =MAX(0,(SUMPRODUCT(Model!$C$57:$J$57,(1+$A28)^(-Model!$C$58:$J$58))+Inputs!$C$16+Model!$J$53*F$22*(1+$A28)^(-(Model!$J$58+0.5))+Inputs!$C$46)*1000/Inputs!$C$5)
A30: Reverse DCF (solved in the JS engine; enter on Inputs C20 to check)
A31: Base-case Data Center revenue scale that equals the price | C31: 0.8434
A32: Same, all three scenarios scaled together | C32: 0.8937
A34: Comparable trading multiples, 2026-10-16 (context, not inputs)
A35: Company | B35: EV / sales, next FY | C35: EV / EBITDA, TTM | D35: Forward P/E | E35: Source
A36: Broadcom (AVGO) | B36: 9.3 | C36: 31.4 | D36: 19 | E36: StockAnalysis statistics and forecast pages
A37: AMD (AMD) | B37: 9.6 | C37: 92.1 | D37: 50.6 | E37: StockAnalysis statistics and forecast pages
A38: TSMC (TSM) | B38: n/a | C38: 16.2 | D38: 18.8 | E38: StockAnalysis statistics and forecast pages
A39: Marvell (MRVL) | B39: 10.2 | C39: 71.8 | D39: 40.5 | E39: StockAnalysis statistics and forecast pages
A40: Arm (ARM) | B40: 29.1 | C40: 233.3 | D40: 102.6 | E40: StockAnalysis statistics and forecast pages
A41: Micron (MU) | B41: 3.4 | C41: 8.6 | D41: 5.3 | E41: StockAnalysis statistics and forecast pages
A42: Qualcomm (QCOM) | B42: n/a | C42: 16.2 | D42: 18.7 | E42: StockAnalysis statistics and forecast pages
A43: NVIDIA (NVDA), at the current price, FY2028E sales | B43: =Inputs!$C$15/Model!$C$44

Sheet Inputs
A1: NVIDIA (NVDA) — inputs
A2: Blue = hardcoded input (change these). Black = formula. Green = link from another sheet. Yellow = key judgment call. USD billions unless noted.
A3: Market
A4: Share price ($) | C4: 214.13
A5: Diluted shares (mm) | C5: 24195
A6: Cash + marketable debt securities | C6: 56.586
A7: Debt (carrying value) | C7: 33.366
A8: Net cash | C8: =C6-C7
A9: Listed equity stakes | C9: 47.74
A10: Listed stakes: value kept | C10: 0.85
A11: Private equity stakes | C11: 51.157
A12: Private stakes: value kept | C12: 0.5
A13: Investments after haircuts | C13: =C9*C10+C11*C12
A14: Market capitalization | C14: =C4*C5/1000
A15: Enterprise value (ex investments) | C15: =C14-C8
A16: H2 FY2027 unlevered FCF, estimate | C16: 115
A17: Valuation date (fiscal-label scale) | C17: 2027.71
A18: FY2027E revenue | C18: 410
A19: Cash tax rate | C19: 0.17
A20: Data Center revenue scale (reverse-DCF lever) | C20: 1
A21: Discount rate
A22: Risk-free rate | C22: 0.051
A23: Beta, measured (2y daily vs IVV) | C23: 1.91
A24: Beta, Blume-adjusted | C24: =ROUND(0.67*C23+0.33,2)
A25: Equity risk premium | C25: 0.05
A26: Cost of equity | C26: =C22+C24*C25
A27: Pre-tax cost of debt | C27: 0.05
A28: After-tax cost of debt | C28: =C27*(1-C19)
A29: Equity weight | C29: =C14/(C14+C7)
A30: WACC (computed) | C30: =C29*C26+(1-C29)*C28
A31: WACC used | C31: =ROUND(C30,3)
A32: Terminal value
A33: Exit multiple, EV/EBITDA (FY2035) | C33: 13
A34: Perpetual growth (cross-check) | C34: 0.03
A35: Terminal tax rate | C35: 0.18
A36: Terminal capex / D&A | C36: 1.2
A37: Net working capital, % of revenue change | C37: 0.15
A38: Scenario weights and contingent costs
A39: Bear probability | C39: 0.25
A40: Base probability | C40: 0.45
...

Sheet Scenarios
A1: Scenario drivers, FY2028-FY2035 (author estimates; fiscal years end late January)
A2: Edit the blue cells. Each block feeds the matching block on the Model sheet.
A4: Bear case
A5: Customers built ahead of their revenue. Fiscal 2028 still grows, then AI data center spending falls by a quarter as hyperscalers and AI labs digest capacity and refinance. Custom chips take the inference market, gross margin settles near 60%, and NVIDIA pays out on part of its guarantees and capacity backstops.
A6: Driver | B6: FY2028 | C6: FY2029 | D6: FY2030 | E6: FY2031 | F6: FY2032 | G6: FY2033 | H6: FY2034 | I6: FY2035
A7: Data Center revenue ($bn) | B7: 560 | C7: 420 | D7: 380 | E7: 390 | F7: 405 | G7: 420 | H7: 435 | I7: 450
A8: Edge Computing revenue ($bn) | B8: 30 | C8: 31 | D8: 33 | E8: 35 | F8: 37 | G8: 39 | H8: 41 | I8: 43
A9: Gross margin | B9: 0.7 | C9: 0.64 | D9: 0.62 | E9: 0.61 | F9: 0.6 | G9: 0.6 | H9: 0.6 | I9: 0.6
A10: Operating expenses incl. SBC ($bn) | B10: 45 | C10: 47 | D10: 48 | E10: 50 | F10: 52 | G10: 54 | H10: 56 | I10: 58
A11: Depreciation & amortization, % of revenue | B11: 0.013 | C11: 0.014 | D11: 0.015 | E11: 0.016 | F11: 0.017 | G11: 0.018 | H11: 0.019 | I11: 0.02
A12: Capital expenditures, % of revenue | B12: 0.028 | C12: 0.0285 | D12: 0.029 | E12: 0.0295 | F12: 0.03 | G12: 0.0305 | H12: 0.031 | I12: 0.0315
A15: Base case
A16: Revenue follows the Street through fiscal 2029 (about $692B, then $905B), which sits just under management’s preliminary 70% growth for fiscal 2028. Growth then slows to 4-5% a year as the buildout matures. Gross margin drifts from 72.5% to 68% as custom chips and memory costs bite, and operating margin fades from 66% to about 60%.
A17: Driver | B17: FY2028 | C17: FY2029 | D17: FY2030 | E17: FY2031 | F17: FY2032 | G17: FY2033 | H17: FY2034 | I17: FY2035
A18: Data Center revenue ($bn) | B18: 660 | C18: 870 | D18: 950 | E18: 995 | F18: 1040 | G18: 1085 | H18: 1130 | I18: 1175
A19: Edge Computing revenue ($bn) | B19: 32 | C19: 35 | D19: 38 | E19: 41 | F19: 44 | G19: 47 | H19: 51 | I19: 55
A20: Gross margin | B20: 0.725 | C20: 0.715 | D20: 0.705 | E20: 0.7 | F20: 0.69 | G20: 0.68 | H20: 0.68 | I20: 0.68
A21: Operating expenses incl. SBC ($bn) | B21: 46 | C21: 56 | D21: 63 | E21: 69 | F21: 75 | G21: 81 | H21: 87 | I21: 93
A22: Depreciation & amortization, % of revenue | B22: 0.013 | C22: 0.014 | D22: 0.015 | E22: 0.016 | F22: 0.017 | G22: 0.018 | H22: 0.019 | I22: 0.02
A23: Capital expenditures, % of revenue | B23: 0.028 | C23: 0.0285 | D23: 0.029 | E23: 0.0295 | F23: 0.03 | G23: 0.0305 | H23: 0.031 | I23: 0.0315
A26: Bull case
A27: Supply, not demand, stays the limit. Fiscal 2028 beats the 70% outlook, Vera Rubin and its successors keep NVIDIA at roughly 40% of a data center spending market that Dell’Oro sees passing $3 trillion by 2030, and gross margin holds near 70% because the full system (chips, networking, software) keeps its premium.
A28: Driver | B28: FY2028 | C28: FY2029 | D28: FY2030 | E28: FY2031 | F28: FY2032 | G28: FY2033 | H28: FY2034 | I28: FY2035
A29: Data Center revenue ($bn) | B29: 700 | C29: 950 | D29: 1120 | E29: 1250 | F29: 1350 | G29: 1440 | H29: 1520 | I29: 1600
A30: Edge Computing revenue ($bn) | B30: 33 | C30: 37 | D30: 41 | E30: 46 | F30: 51 | G30: 56 | H30: 62 | I30: 68
A31: Gross margin | B31: 0.73 | C31: 0.73 | D31: 0.72 | E31: 0.71 | F31: 0.7 | G31: 0.7 | H31: 0.69 | I31: 0.69
A32: Operating expenses incl. SBC ($bn) | B32: 47 | C32: 58 | D32: 68 | E32: 77 | F32: 86 | G32: 95 | H32: 104 | I32: 112
A33: Depreciation & amortization, % of revenue | B33: 0.013 | C33: 0.014 | D33: 0.015 | E33: 0.016 | F33: 0.017 | G33: 0.018 | H33: 0.019 | I33: 0.02
A34: Capital expenditures, % of revenue | B34: 0.028 | C34: 0.0285 | D34: 0.029 | E34: 0.0295 | F34: 0.03 | G34: 0.0305 | H34: 0.031 | I34: 0.0315

Sheet Model
A1: Model: revenue build to unlevered free cash flow and DCF ($bn unless noted)
A2: Stock-based compensation is a cost (inside operating expenses). Cash tax on positive EBIT. Fiscal years end late January.
A4: Bear case
A5: Line item | C5: FY2028 | D5: FY2029 | E5: FY2030 | F5: FY2031 | G5: FY2032 | H5: FY2033 | I5: FY2034 | J5: FY2035
A6: Data Center revenue | C6: =Scenarios!B7*Inputs!$C$20 | D6: =Scenarios!C7*Inputs!$C$20 | E6: =Scenarios!D7*Inputs!$C$20 | F6: =Scenarios!E7*Inputs!$C$20 | G6: =Scenarios!F7*Inputs!$C$20 | H6: =Scenarios!G7*Inputs!$C$20 | I6: =Scenarios!H7*Inputs!$C$20 | J6: =Scenarios!I7*Inputs!$C$20
A7: Edge Computing revenue | C7: =Scenarios!B8 | D7: =Scenarios!C8 | E7: =Scenarios!D8 | F7: =Scenarios!E8 | G7: =Scenarios!F8 | H7: =Scenarios!G8 | I7: =Scenarios!H8 | J7: =Scenarios!I8
A8: Total revenue | C8: =C6+C7 | D8: =D6+D7 | E8: =E6+E7 | F8: =F6+F7 | G8: =G6+G7 | H8: =H6+H7 | I8: =I6+I7 | J8: =J6+J7
A9: Gross margin | C9: =Scenarios!B9 | D9: =Scenarios!C9 | E9: =Scenarios!D9 | F9: =Scenarios!E9 | G9: =Scenarios!F9 | H9: =Scenarios!G9 | I9: =Scenarios!H9 | J9: =Scenarios!I9
A10: Gross profit | C10: =C8*C9 | D10: =D8*D9 | E10: =E8*E9 | F10: =F8*F9 | G10: =G8*G9 | H10: =H8*H9 | I10: =I8*I9 | J10: =J8*J9
A11: Operating expenses incl. SBC | C11: =Scenarios!B10 | D11: =Scenarios!C10 | E11: =Scenarios!D10 | F11: =Scenarios!E10 | G11: =Scenarios!F10 | H11: =Scenarios!G10 | I11: =Scenarios!H10 | J11: =Scenarios!I10
A12: EBIT | C12: =C10-C11 | D12: =D10-D11 | E12: =E10-E11 | F12: =F10-F11 | G12: =G10-G11 | H12: =H10-H11 | I12: =I10-I11 | J12: =J10-J11
A13: EBIT margin | C13: =IF(C8=0,0,C12/C8) | D13: =IF(D8=0,0,D12/D8) | E13: =IF(E8=0,0,E12/E8) | F13: =IF(F8=0,0,F12/F8) | G13: =IF(G8=0,0,G12/G8) | H13: =IF(H8=0,0,H12/H8) | I13: =IF(I8=0,0,I12/I8) | J13: =IF(J8=0,0,J12/J8)
A14: Cash tax on EBIT | C14: =MAX(0,C12)*Inputs!$C$19 | D14: =MAX(0,D12)*Inputs!$C$19 | E14: =MAX(0,E12)*Inputs!$C$19 | F14: =MAX(0,F12)*Inputs!$C$19 | G14: =MAX(0,G12)*Inputs!$C$19 | H14: =MAX(0,H12)*Inputs!$C$19 | I14: =MAX(0,I12)*Inputs!$C$19 | J14: =MAX(0,J12)*Inputs!$C$19
A15: D&A, % of revenue | C15: =Scenarios!B11 | D15: =Scenarios!C11 | E15: =Scenarios!D11 | F15: =Scenarios!E11 | G15: =Scenarios!F11 | H15: =Scenarios!G11 | I15: =Scenarios!H11 | J15: =Scenarios!I11
A16: Depreciation & amortization | C16: =C8*C15 | D16: =D8*D15 | E16: =E8*E15 | F16: =F8*F15 | G16: =G8*G15 | H16: =H8*H15 | I16: =I8*I15 | J16: =J8*J15
A17: EBITDA | C17: =C12+C16 | D17: =D12+D16 | E17: =E12+E16 | F17: =F12+F16 | G17: =G12+G16 | H17: =H12+H16 | I17: =I12+I16 | J17: =J12+J16
A18: Capex, % of revenue | C18: =Scenarios!B12 | D18: =Scenarios!C12 | E18: =Scenarios!D12 | F18: =Scenarios!E12 | G18: =Scenarios!F12 | H18: =Scenarios!G12 | I18: =Scenarios!H12 | J18: =Scenarios!I12
A19: Capital expenditures | C19: =C8*C18 | D19: =D8*D18 | E19: =E8*E18 | F19: =F8*F18 | G19: =G8*G18 | H19: =H8*H18 | I19: =I8*I18 | J19: =J8*J18
A20: Change in net working capital | C20: =Inputs!$C$37*(C8-Inputs!$C$18) | D20: =Inputs!$C$37*(D8-C8) | E20: =Inputs!$C$37*(E8-D8) | F20: =Inputs!$C$37*(F8-E8) | G20: =Inputs!$C$37*(G8-F8) | H20: =Inputs!$C$37*(H8-G8) | I20: =Inputs!$C$37*(I8-H8) | J20: =Inputs!$C$37*(J8-I8)
A21: Unlevered free cash flow | C21: =C12-C14+C16-C19-C20 | D21: =D12-D14+D16-D19-D20 | E21: =E12-E14+E16-E19-E20 | F21: =F12-F14+F16-F19-F20 | G21: =G12-G14+G16-G19-G20 | H21: =H12-H14+H16-H19-H20 | I21: =I12-I14+I16-I19-I20 | J21: =J12-J14+J16-J19-J20
A22: Discount period (years) | C22: =2028+0.5-Inputs!$C$17 | D22: =2029+0.5-Inputs!$C$17 | E22: =2030+0.5-Inputs!$C$17 | F22: =2031+0.5-Inputs!$C$17 | G22: =2032+0.5-Inputs!$C$17 | H22: =2033+0.5-Inputs!$C$17 | I22: =2034+0.5-Inputs!$C$17 | J22: =2035+0.5-Inputs!$C$17
A23: Discount factor | C23: =1/(1+Inputs!$C$31)^C22 | D23: =1/(1+Inputs!$C$31)^D22 | E23: =1/(1+Inputs!$C$31)^E22 | F23: =1/(1+Inputs!$C$31)^F22 | G23: =1/(1+Inputs!$C$31)^G22 | H23: =1/(1+Inputs!$C$31)^H22 | I23: =1/(1+Inputs!$C$31)^I22 | J23: =1/(1+Inputs!$C$31)^J22
A24: PV of unlevered FCF | C24: =C21*C23 | D24: =D21*D23 | E24: =E21*E23 | F24: =F21*F23 | G24: =G21*G23 | H24: =H21*H23 | I24: =I21*I23 | J24: =J21*J23
A26: Normalized terminal FCF (2035) | C26: =J12*(1-Inputs!$C$35)+J16*(1-Inputs!$C$36)-Inputs!$C$37*J8*Inputs!$C$34
A27: Terminal value, exit multiple | C27: =J17*Inputs!$C$33
A28: Terminal value, perpetual growth (cross-check) | C28: =$C$26*(1+Inputs!$C$34)/(Inputs!$C$31-Inputs!$C$34)
A29: PV of FY2028-FY2035 FCF + H2 FY2027 stub | C29: =SUM(C24:J24)+Inputs!$C$16
A30: PV of terminal value (exit multiple, end-2035 value) | C30: =$C$27/(1+Inputs!$C$31)^(J22+0.5)
A31: Enterprise value | C31: =$C$29+$C$30
A32: Equity value | C32: =$C$31+Inputs!$C$45
A33: DCF value per share ($) | C33: =MAX(0,$C$32*1000/Inputs!$C$5)
A34: Strategic floor per share ($) | C34: 0
A35: Value per share ($) | C35: =MAX($C$33,$C$34)
A36: Cross-check: value per share at perpetual growth ($) | C36: =MAX(0,($C$29+$C$28*J23+Inputs!$C$45)*1000/Inputs!$C$5)
A37: Perpetual growth implied by the exit multiple | C37: =($C$27*Inputs!$C$31-$C$26)/($C$27+$C$26)
A40: Base case
A41: Line item | C41: FY2028 | D41: FY2029 | E41: FY2030 | F41: FY2031 | G41: FY2032 | H41: FY2033 | I41: FY2034 | J41: FY2035
A42: Data Center revenue | C42: =Scenarios!B18*Inputs!$C$20 | D42: =Scenarios!C18*Inputs!$C$20 | E42: =Scenarios!D18*Inputs!$C$20 | F42: =Scenarios!E18*Inputs!$C$20 | G42: =Scenarios!F18*Inputs!$C$20 | H42: =Scenarios!G18*Inputs!$C$20 | I42: =Scenarios!H18*Inputs!$C$20 | J42: =Scenarios!I18*Inputs!$C$20
A43: Edge Computing revenue | C43: =Scenarios!B19 | D43: =Scenarios!C19 | E43: =Scenarios!D19 | F43: =Scenarios!E19 | G43: =Scenarios!F19 | H43: =Scenarios!G19 | I43: =Scenarios!H19 | J43: =Scenarios!I19
A44: Total revenue | C44: =C42+C43 | D44: =D42+D43 | E44: =E42+E43 | F44: =F42+F43 | G44: =G42+G43 | H44: =H42+H43 | I44: =I42+I43 | J44: =J42+J43
...

Sheet History
A1: Reported results ($bn). Fiscal years end late January.
A3: Line item | B3: FY2024 | C3: FY2025 | D3: FY2026 | E3: Q1 FY2027 | F3: Q2 FY2027
A4: Data Center revenue | B4: 47.525 | C4: 115.186 | D4: 193.737 | E4: 75.246 | F4: 89.023
A5: Edge Computing / other revenue | B5: 13.397 | C5: 15.311 | D5: 22.201 | E5: 6.369 | F5: 7.198
A6: Total revenue | B6: =B4+B5 | C6: =C4+C5 | D6: =D4+D5 | E6: =E4+E5 | F6: =F4+F5
A7: Gross profit | B7: 44.301 | C7: 97.858 | D7: 153.463 | E7: 61.157 | F7: 72.142
A8: Gross margin | B8: =IF(B6=0,0,B7/B6) | C8: =IF(C6=0,0,C7/C6) | D8: =IF(D6=0,0,D7/D6) | E8: =IF(E6=0,0,E7/E6) | F8: =IF(F6=0,0,F7/F6)
A9: Operating expenses | B9: 11.329 | C9: 16.405 | D9: 23.076 | E9: 7.621 | F9: 8.408
A10: Operating income | B10: 32.972 | C10: 81.453 | D10: 130.387 | E10: 53.536 | F10: 63.734
A11: Net income (incl. equity-investment gains) | B11: 29.76 | C11: 72.88 | D11: 120.067 | E11: 58.321 | F11: 59.688
A12: Stock-based compensation | B12: 3.549 | C12: 4.737 | D12: 6.386 | E12: 1.927 | F12: 2.027
A13: Depreciation & amortization | B13: 1.508 | C13: 1.864 | D13: 2.843 | E13: 0.997 | F13: 1.127
A14: Capital expenditures | B14: 1.069 | C14: 3.236 | D14: 6.042 | E14: 1.757 | F14: 2.677
A15: Free cash flow (company definition) | B15: 26.947 | C15: 60.724 | D15: 96.575 | E15: 48.554 | F15: 21.341
A16: Share repurchases | B16: 9.533 | C16: 33.706 | D16: 40.086 | E16: 19.312 | F16: 19.732
A19: Sources
A20: FY2024-FY2026: FY2026 10-K, filed 2026-02-25, https://www.sec.gov/Archives/edgar/data/1045810/000104581026000021/nvda-20260125.htm and Q4 FY26 CFO commentary.
A21: Q1 FY2027: Q1 FY27 CFO commentary (8-K, 2026-05-20) and Q2 FY27 10-Q six-month figures less Q2.
A22: Q2 FY2027: Q2 FY2027 10-Q (quarter ended 2026-07-26, filed 2026-08-26), https://www.sec.gov/Archives/edgar/data/1045810/000104581026000075/nvda-20260726.htm
A23: Edge for FY2024-FY2026 = total revenue less Data Center (Gaming, Pro Visualization, Automotive, OEM & other); NVIDIA recast to Edge Computing from Q1 FY2027.
A24: Free cash flow = operating cash flow less capex less principal payments on property and equipment (NVIDIA definition).
