Workbook

Sheet Valuation
A1: Rivian Automotive (RIVN) — valuation summary
A2: Phat Ngo · Initiation · prices as of 2026-10-16 · personal research, not investment advice
A4: Scenario | B4: Probability | C4: Value / share | D4: vs price
A5: Bear | B5: =Inputs!$C$32 | C5: =Model!$C$38 | D5: =C5/Inputs!$C$4-1
A6: Base | B6: =Inputs!$C$33 | C6: =Model!$C$77 | D6: =C6/Inputs!$C$4-1
A7: Bull | B7: =Inputs!$C$34 | C7: =Model!$C$116 | D7: =C7/Inputs!$C$4-1
A9: Probability-weighted fair value ($) | C9: =SUMPRODUCT(B5:B7,C5:C7)
A10: Current price ($) | C10: =Inputs!$C$4
A11: Expected return to fair value | C11: =C9/C10-1
A12: Hurdle: cost of equity | C12: =Inputs!$C$18
A13: Rating (rule: >10 pts above hurdle Outperform, >10 below Underperform) | C13: =IF(C11>C12+0.1,"Outperform",IF(C11<C12-0.1,"Underperform","Neutral"))
A14: Price below which the rule reads Outperform ($) | C14: =C9/(1+C12+0.1)
A15: Price above which the rule reads Underperform ($) | C15: =C9/(1+C12-0.1)
A16: Weights sum check (must be 100%) | C16: =SUM(B5:B7)
A18: Base case: value per share by WACC (rows) and 2035 EV/EBITDA exit multiple (columns)
A19: WACC \ exit multiple | B19: 6 | C19: 8 | D19: 10 | E19: 12 | F19: 14
A20: 0.1 | B20: =MAX(0,(SUMPRODUCT(Model!$C$63:$K$63,(1+$A20)^(-Model!$C$64:$K$64))+Inputs!$C$11+Model!$K$60*B$19*(1+$A20)^(-(Model!$K$64+0.5))+Inputs!$C$8)*1000/Inputs!$C$5) | C20: =MAX(0,(SUMPRODUCT(Model!$C$63:$K$63,(1+$A20)^(-Model!$C$64:$K$64))+Inputs!$C$11+Model!$K$60*C$19*(1+$A20)^(-(Model!$K$64+0.5))+Inputs!$C$8)*1000/Inputs!$C$5) | D20: =MAX(0,(SUMPRODUCT(Model!$C$63:$K$63,(1+$A20)^(-Model!$C$64:$K$64))+Inputs!$C$11+Model!$K$60*D$19*(1+$A20)^(-(Model!$K$64+0.5))+Inputs!$C$8)*1000/Inputs!$C$5) | E20: =MAX(0,(SUMPRODUCT(Model!$C$63:$K$63,(1+$A20)^(-Model!$C$64:$K$64))+Inputs!$C$11+Model!$K$60*E$19*(1+$A20)^(-(Model!$K$64+0.5))+Inputs!$C$8)*1000/Inputs!$C$5) | F20: =MAX(0,(SUMPRODUCT(Model!$C$63:$K$63,(1+$A20)^(-Model!$C$64:$K$64))+Inputs!$C$11+Model!$K$60*F$19*(1+$A20)^(-(Model!$K$64+0.5))+Inputs!$C$8)*1000/Inputs!$C$5)
A21: 0.105 | B21: =MAX(0,(SUMPRODUCT(Model!$C$63:$K$63,(1+$A21)^(-Model!$C$64:$K$64))+Inputs!$C$11+Model!$K$60*B$19*(1+$A21)^(-(Model!$K$64+0.5))+Inputs!$C$8)*1000/Inputs!$C$5) | C21: =MAX(0,(SUMPRODUCT(Model!$C$63:$K$63,(1+$A21)^(-Model!$C$64:$K$64))+Inputs!$C$11+Model!$K$60*C$19*(1+$A21)^(-(Model!$K$64+0.5))+Inputs!$C$8)*1000/Inputs!$C$5) | D21: =MAX(0,(SUMPRODUCT(Model!$C$63:$K$63,(1+$A21)^(-Model!$C$64:$K$64))+Inputs!$C$11+Model!$K$60*D$19*(1+$A21)^(-(Model!$K$64+0.5))+Inputs!$C$8)*1000/Inputs!$C$5) | E21: =MAX(0,(SUMPRODUCT(Model!$C$63:$K$63,(1+$A21)^(-Model!$C$64:$K$64))+Inputs!$C$11+Model!$K$60*E$19*(1+$A21)^(-(Model!$K$64+0.5))+Inputs!$C$8)*1000/Inputs!$C$5) | F21: =MAX(0,(SUMPRODUCT(Model!$C$63:$K$63,(1+$A21)^(-Model!$C$64:$K$64))+Inputs!$C$11+Model!$K$60*F$19*(1+$A21)^(-(Model!$K$64+0.5))+Inputs!$C$8)*1000/Inputs!$C$5)
A22: 0.11 | B22: =MAX(0,(SUMPRODUCT(Model!$C$63:$K$63,(1+$A22)^(-Model!$C$64:$K$64))+Inputs!$C$11+Model!$K$60*B$19*(1+$A22)^(-(Model!$K$64+0.5))+Inputs!$C$8)*1000/Inputs!$C$5) | C22: =MAX(0,(SUMPRODUCT(Model!$C$63:$K$63,(1+$A22)^(-Model!$C$64:$K$64))+Inputs!$C$11+Model!$K$60*C$19*(1+$A22)^(-(Model!$K$64+0.5))+Inputs!$C$8)*1000/Inputs!$C$5) | D22: =MAX(0,(SUMPRODUCT(Model!$C$63:$K$63,(1+$A22)^(-Model!$C$64:$K$64))+Inputs!$C$11+Model!$K$60*D$19*(1+$A22)^(-(Model!$K$64+0.5))+Inputs!$C$8)*1000/Inputs!$C$5) | E22: =MAX(0,(SUMPRODUCT(Model!$C$63:$K$63,(1+$A22)^(-Model!$C$64:$K$64))+Inputs!$C$11+Model!$K$60*E$19*(1+$A22)^(-(Model!$K$64+0.5))+Inputs!$C$8)*1000/Inputs!$C$5) | F22: =MAX(0,(SUMPRODUCT(Model!$C$63:$K$63,(1+$A22)^(-Model!$C$64:$K$64))+Inputs!$C$11+Model!$K$60*F$19*(1+$A22)^(-(Model!$K$64+0.5))+Inputs!$C$8)*1000/Inputs!$C$5)
A23: 0.115 | B23: =MAX(0,(SUMPRODUCT(Model!$C$63:$K$63,(1+$A23)^(-Model!$C$64:$K$64))+Inputs!$C$11+Model!$K$60*B$19*(1+$A23)^(-(Model!$K$64+0.5))+Inputs!$C$8)*1000/Inputs!$C$5) | C23: =MAX(0,(SUMPRODUCT(Model!$C$63:$K$63,(1+$A23)^(-Model!$C$64:$K$64))+Inputs!$C$11+Model!$K$60*C$19*(1+$A23)^(-(Model!$K$64+0.5))+Inputs!$C$8)*1000/Inputs!$C$5) | D23: =MAX(0,(SUMPRODUCT(Model!$C$63:$K$63,(1+$A23)^(-Model!$C$64:$K$64))+Inputs!$C$11+Model!$K$60*D$19*(1+$A23)^(-(Model!$K$64+0.5))+Inputs!$C$8)*1000/Inputs!$C$5) | E23: =MAX(0,(SUMPRODUCT(Model!$C$63:$K$63,(1+$A23)^(-Model!$C$64:$K$64))+Inputs!$C$11+Model!$K$60*E$19*(1+$A23)^(-(Model!$K$64+0.5))+Inputs!$C$8)*1000/Inputs!$C$5) | F23: =MAX(0,(SUMPRODUCT(Model!$C$63:$K$63,(1+$A23)^(-Model!$C$64:$K$64))+Inputs!$C$11+Model!$K$60*F$19*(1+$A23)^(-(Model!$K$64+0.5))+Inputs!$C$8)*1000/Inputs!$C$5)
A24: 0.12 | B24: =MAX(0,(SUMPRODUCT(Model!$C$63:$K$63,(1+$A24)^(-Model!$C$64:$K$64))+Inputs!$C$11+Model!$K$60*B$19*(1+$A24)^(-(Model!$K$64+0.5))+Inputs!$C$8)*1000/Inputs!$C$5) | C24: =MAX(0,(SUMPRODUCT(Model!$C$63:$K$63,(1+$A24)^(-Model!$C$64:$K$64))+Inputs!$C$11+Model!$K$60*C$19*(1+$A24)^(-(Model!$K$64+0.5))+Inputs!$C$8)*1000/Inputs!$C$5) | D24: =MAX(0,(SUMPRODUCT(Model!$C$63:$K$63,(1+$A24)^(-Model!$C$64:$K$64))+Inputs!$C$11+Model!$K$60*D$19*(1+$A24)^(-(Model!$K$64+0.5))+Inputs!$C$8)*1000/Inputs!$C$5) | E24: =MAX(0,(SUMPRODUCT(Model!$C$63:$K$63,(1+$A24)^(-Model!$C$64:$K$64))+Inputs!$C$11+Model!$K$60*E$19*(1+$A24)^(-(Model!$K$64+0.5))+Inputs!$C$8)*1000/Inputs!$C$5) | F24: =MAX(0,(SUMPRODUCT(Model!$C$63:$K$63,(1+$A24)^(-Model!$C$64:$K$64))+Inputs!$C$11+Model!$K$60*F$19*(1+$A24)^(-(Model!$K$64+0.5))+Inputs!$C$8)*1000/Inputs!$C$5)
A25: 0.125 | B25: =MAX(0,(SUMPRODUCT(Model!$C$63:$K$63,(1+$A25)^(-Model!$C$64:$K$64))+Inputs!$C$11+Model!$K$60*B$19*(1+$A25)^(-(Model!$K$64+0.5))+Inputs!$C$8)*1000/Inputs!$C$5) | C25: =MAX(0,(SUMPRODUCT(Model!$C$63:$K$63,(1+$A25)^(-Model!$C$64:$K$64))+Inputs!$C$11+Model!$K$60*C$19*(1+$A25)^(-(Model!$K$64+0.5))+Inputs!$C$8)*1000/Inputs!$C$5) | D25: =MAX(0,(SUMPRODUCT(Model!$C$63:$K$63,(1+$A25)^(-Model!$C$64:$K$64))+Inputs!$C$11+Model!$K$60*D$19*(1+$A25)^(-(Model!$K$64+0.5))+Inputs!$C$8)*1000/Inputs!$C$5) | E25: =MAX(0,(SUMPRODUCT(Model!$C$63:$K$63,(1+$A25)^(-Model!$C$64:$K$64))+Inputs!$C$11+Model!$K$60*E$19*(1+$A25)^(-(Model!$K$64+0.5))+Inputs!$C$8)*1000/Inputs!$C$5) | F25: =MAX(0,(SUMPRODUCT(Model!$C$63:$K$63,(1+$A25)^(-Model!$C$64:$K$64))+Inputs!$C$11+Model!$K$60*F$19*(1+$A25)^(-(Model!$K$64+0.5))+Inputs!$C$8)*1000/Inputs!$C$5)
A26: 0.13 | B26: =MAX(0,(SUMPRODUCT(Model!$C$63:$K$63,(1+$A26)^(-Model!$C$64:$K$64))+Inputs!$C$11+Model!$K$60*B$19*(1+$A26)^(-(Model!$K$64+0.5))+Inputs!$C$8)*1000/Inputs!$C$5) | C26: =MAX(0,(SUMPRODUCT(Model!$C$63:$K$63,(1+$A26)^(-Model!$C$64:$K$64))+Inputs!$C$11+Model!$K$60*C$19*(1+$A26)^(-(Model!$K$64+0.5))+Inputs!$C$8)*1000/Inputs!$C$5) | D26: =MAX(0,(SUMPRODUCT(Model!$C$63:$K$63,(1+$A26)^(-Model!$C$64:$K$64))+Inputs!$C$11+Model!$K$60*D$19*(1+$A26)^(-(Model!$K$64+0.5))+Inputs!$C$8)*1000/Inputs!$C$5) | E26: =MAX(0,(SUMPRODUCT(Model!$C$63:$K$63,(1+$A26)^(-Model!$C$64:$K$64))+Inputs!$C$11+Model!$K$60*E$19*(1+$A26)^(-(Model!$K$64+0.5))+Inputs!$C$8)*1000/Inputs!$C$5) | F26: =MAX(0,(SUMPRODUCT(Model!$C$63:$K$63,(1+$A26)^(-Model!$C$64:$K$64))+Inputs!$C$11+Model!$K$60*F$19*(1+$A26)^(-(Model!$K$64+0.5))+Inputs!$C$8)*1000/Inputs!$C$5)
A28: Comparable trading multiples (dated; for context, not inputs)
A29: Company | B29: EV / sales | C29: Basis | D29: Source
A30: Tesla (TSLA) | B30: 14.1 | C30: LTM, Oct 2026 | D30: multiples.vc, Oct 2026
A31: Lucid (LCID) | B31: 2.8 | C31: NTM | D31: TIKR, 2026
A32: Traditional automakers, median | B32: 0.84 | C32: NTM | D32: TIKR, 2026
A33: Rivian (RIVN), at the current price | B33: =Inputs!$C$10/Inputs!$C$13 | C33: 2026E revenue

Sheet Inputs
A1: Rivian Automotive (RIVN) — inputs
A2: Blue = hardcoded input (change these). Black = formula. Green = link from another sheet. Yellow = key judgment call.
A3: Market
A4: Share price ($) | C4: 12.95
A5: Shares outstanding (mm) | C5: 1448
A6: Cash + short-term investments, pro forma ($bn) | C6: 6.627
A7: Debt ($bn) | C7: 4.444
A8: Net cash ($bn) | C8: =C6-C7
A9: Market capitalization ($bn) | C9: =C4*C5/1000
A10: Enterprise value ($bn) | C10: =C9-C8
A11: H2 2026 unlevered FCF, estimate ($bn) | C11: -1.7
A12: Valuation date (decimal year) | C12: 2026.79
A13: 2026E revenue ($bn) | C13: 7.551
A14: Discount rate
A15: Risk-free rate | C15: 0.052
A16: Beta | C16: 1.48
A17: Equity risk premium | C17: 0.05
A18: Cost of equity | C18: =C15+C16*C17
A19: Pre-tax cost of debt (no tax shield: NOLs) | C19: 0.06
A20: Debt incl. VW-JV loan for weights ($bn) | C20: =C7+1
A21: Equity weight | C21: =C9/(C9+C20)
A22: WACC (computed) | C22: =C21*C18+(1-C21)*C19
A23: Execution-risk premium | C23: 0.004
A24: WACC used | C24: =ROUND(C22+C23,3)
A25: Terminal value
A26: Exit multiple, EV/EBITDA (2035) | C26: 10
A27: Perpetual growth (cross-check) | C27: 0.03
A28: Terminal tax rate | C28: 0.21
A29: Terminal capex / D&A | C29: 1.15
A30: Net working capital, % of revenue change | C30: 0.02
A31: Scenario weights
A32: Bear probability | C32: 0.3
A33: Base probability | C33: 0.5
A34: Bull probability | C34: 0.2
A35: Bear floor, EV / 2027E sales | C35: 0.6

Sheet Scenarios
A1: Scenario drivers, 2027-2035 (author estimates)
A2: Edit the blue cells. Each block feeds the matching block on the Model sheet.
A4: Bear case
A5: R2 demand fades without the federal tax credit, Georgia is paused and Rivian shrinks to one plant, VW engineering fees roll off after 2027 with little licensing to replace them, and management cuts spending to survive. More equity is still needed, at lower prices.
A6: Driver | B6: 2027 | C6: 2028 | D6: 2029 | E6: 2030 | F6: 2031 | G6: 2032 | H6: 2033 | I6: 2034 | J6: 2035
A7: Deliveries (thousands) | B7: 90 | C7: 110 | D7: 130 | E7: 150 | F7: 165 | G7: 180 | H7: 190 | I7: 200 | J7: 205
A8: Automotive ASP ($ thousands) | B8: 62 | C8: 59 | D8: 56 | E8: 54 | F8: 53 | G8: 53 | H8: 53 | I8: 53 | J8: 53
A9: Automotive gross margin | B9: -0.04 | C9: 0.01 | D9: 0.04 | E9: 0.06 | F9: 0.08 | G9: 0.09 | H9: 0.1 | I9: 0.11 | J9: 0.11
A10: Software & services revenue ($bn) | B10: 2.2 | C10: 2 | D10: 2.2 | E10: 2.5 | F10: 2.8 | G10: 3.1 | H10: 3.4 | I10: 3.7 | J10: 4
A11: Software & services gross margin | B11: 0.32 | C11: 0.32 | D11: 0.32 | E11: 0.32 | F11: 0.32 | G11: 0.32 | H11: 0.32 | I11: 0.32 | J11: 0.32
A12: R&D + SG&A incl. SBC ($bn) | B12: 4.2 | C12: 4 | D12: 3.8 | E12: 3.7 | F12: 3.7 | G12: 3.7 | H12: 3.8 | I12: 3.9 | J12: 4
A13: Depreciation & amortization ($bn) | B13: 0.95 | C13: 1 | D13: 1 | E13: 1 | F13: 1 | G13: 1 | H13: 1.05 | I13: 1.05 | J13: 1.1
A14: Capital expenditures ($bn) | B14: 1.9 | C14: 1.4 | D14: 1.1 | E14: 1 | F14: 1 | G14: 1 | H14: 1.1 | I14: 1.1 | J14: 1.2
A17: Base case
A18: R2 ramps through 2027 at Normal, Georgia adds volume from 2029, automotive margins reach Ford-to-Tesla territory by the early 2030s, and software & services keeps compounding as VW engineering fees give way to licensing and paid autonomy.
A19: Driver | B19: 2027 | C19: 2028 | D19: 2029 | E19: 2030 | F19: 2031 | G19: 2032 | H19: 2033 | I19: 2034 | J19: 2035
A20: Deliveries (thousands) | B20: 115 | C20: 150 | D20: 210 | E20: 280 | F20: 345 | G20: 400 | H20: 440 | I20: 470 | J20: 490
A21: Automotive ASP ($ thousands) | B21: 63 | C21: 60 | D21: 57 | E21: 55 | F21: 54 | G21: 54 | H21: 54 | I21: 54 | J21: 54
A22: Automotive gross margin | B22: 0.02 | C22: 0.07 | D22: 0.1 | E22: 0.13 | F22: 0.15 | G22: 0.17 | H22: 0.18 | I22: 0.19 | J22: 0.19
A23: Software & services revenue ($bn) | B23: 2.7 | C23: 3 | D23: 3.6 | E23: 4.3 | F23: 5.1 | G23: 6 | H23: 7 | I23: 8 | J23: 9
A24: Software & services gross margin | B24: 0.38 | C24: 0.39 | D24: 0.4 | E24: 0.42 | F24: 0.44 | G24: 0.46 | H24: 0.48 | I24: 0.49 | J24: 0.5
A25: R&D + SG&A incl. SBC ($bn) | B25: 4.35 | C25: 4.5 | D25: 4.65 | E25: 4.8 | F25: 4.95 | G25: 5.1 | H25: 5.25 | I25: 5.4 | J25: 5.55
A26: Depreciation & amortization ($bn) | B26: 1 | C26: 1.15 | D26: 1.4 | E26: 1.6 | F26: 1.75 | G26: 1.9 | H26: 2 | I26: 2.1 | J26: 2.2
A27: Capital expenditures ($bn) | B27: 2.4 | C27: 2.6 | D27: 2 | E27: 2 | F27: 2.1 | G27: 2.2 | H27: 2.3 | I27: 2.4 | J27: 2.5
A30: Bull case
A31: R2 and R3 sell through both plants plus an expansion, unit costs fall faster than planned, VW and others license the RV Tech stack per vehicle, and paid autonomy and a robotaxi variant make software a large, high-margin business.
A32: Driver | B32: 2027 | C32: 2028 | D32: 2029 | E32: 2030 | F32: 2031 | G32: 2032 | H32: 2033 | I32: 2034 | J32: 2035
A33: Deliveries (thousands) | B33: 130 | C33: 185 | D33: 260 | E33: 350 | F33: 440 | G33: 520 | H33: 590 | I33: 640 | J33: 680
A34: Automotive ASP ($ thousands) | B34: 64 | C34: 61 | D34: 58 | E34: 56 | F34: 55 | G34: 55 | H34: 55 | I34: 55 | J34: 55
A35: Automotive gross margin | B35: 0.05 | C35: 0.11 | D35: 0.15 | E35: 0.18 | F35: 0.2 | G35: 0.21 | H35: 0.22 | I35: 0.23 | J35: 0.23
A36: Software & services revenue ($bn) | B36: 3 | C36: 3.8 | D36: 5 | E36: 6.5 | F36: 8.2 | G36: 10 | H36: 11.8 | I36: 13.5 | J36: 15
A37: Software & services gross margin | B37: 0.42 | C37: 0.44 | D37: 0.47 | E37: 0.5 | F37: 0.52 | G37: 0.54 | H37: 0.55 | I37: 0.56 | J37: 0.57
A38: R&D + SG&A incl. SBC ($bn) | B38: 4.4 | C38: 4.7 | D38: 5 | E38: 5.4 | F38: 5.8 | G38: 6.2 | H38: 6.6 | I38: 7 | J38: 7.4
A39: Depreciation & amortization ($bn) | B39: 1.05 | C39: 1.25 | D39: 1.55 | E39: 1.85 | F39: 2.1 | G39: 2.35 | H39: 2.55 | I39: 2.75 | J39: 2.9
A40: Capital expenditures ($bn) | B40: 2.6 | C40: 3 | D40: 2.6 | E40: 2.8 | F40: 3 | G40: 3.1 | H40: 3.2 | I40: 3.3 | J40: 3.4

Sheet Model
A1: Model: revenue build to unlevered free cash flow and DCF ($bn unless noted)
A2: Stock-based compensation is treated as a real cost (no add-back). Cash taxes are zero through 2035 because of accumulated net operating losses.
A4: Bear case
A5: Line item | C5: 2027 | D5: 2028 | E5: 2029 | F5: 2030 | G5: 2031 | H5: 2032 | I5: 2033 | J5: 2034 | K5: 2035
A6: Deliveries (thousands) | C6: =Scenarios!B7 | D6: =Scenarios!C7 | E6: =Scenarios!D7 | F6: =Scenarios!E7 | G6: =Scenarios!F7 | H6: =Scenarios!G7 | I6: =Scenarios!H7 | J6: =Scenarios!I7 | K6: =Scenarios!J7
A7: Automotive ASP ($ thousands) | C7: =Scenarios!B8 | D7: =Scenarios!C8 | E7: =Scenarios!D8 | F7: =Scenarios!E8 | G7: =Scenarios!F8 | H7: =Scenarios!G8 | I7: =Scenarios!H8 | J7: =Scenarios!I8 | K7: =Scenarios!J8
A8: Automotive revenue | C8: =C6*C7/1000 | D8: =D6*D7/1000 | E8: =E6*E7/1000 | F8: =F6*F7/1000 | G8: =G6*G7/1000 | H8: =H6*H7/1000 | I8: =I6*I7/1000 | J8: =J6*J7/1000 | K8: =K6*K7/1000
A9: Software & services revenue | C9: =Scenarios!B10 | D9: =Scenarios!C10 | E9: =Scenarios!D10 | F9: =Scenarios!E10 | G9: =Scenarios!F10 | H9: =Scenarios!G10 | I9: =Scenarios!H10 | J9: =Scenarios!I10 | K9: =Scenarios!J10
A10: Total revenue | C10: =C8+C9 | D10: =D8+D9 | E10: =E8+E9 | F10: =F8+F9 | G10: =G8+G9 | H10: =H8+H9 | I10: =I8+I9 | J10: =J8+J9 | K10: =K8+K9
A11: Automotive gross margin | C11: =Scenarios!B9 | D11: =Scenarios!C9 | E11: =Scenarios!D9 | F11: =Scenarios!E9 | G11: =Scenarios!F9 | H11: =Scenarios!G9 | I11: =Scenarios!H9 | J11: =Scenarios!I9 | K11: =Scenarios!J9
A12: Automotive gross profit | C12: =C8*C11 | D12: =D8*D11 | E12: =E8*E11 | F12: =F8*F11 | G12: =G8*G11 | H12: =H8*H11 | I12: =I8*I11 | J12: =J8*J11 | K12: =K8*K11
A13: Software & services gross margin | C13: =Scenarios!B11 | D13: =Scenarios!C11 | E13: =Scenarios!D11 | F13: =Scenarios!E11 | G13: =Scenarios!F11 | H13: =Scenarios!G11 | I13: =Scenarios!H11 | J13: =Scenarios!I11 | K13: =Scenarios!J11
A14: Software & services gross profit | C14: =C9*C13 | D14: =D9*D13 | E14: =E9*E13 | F14: =F9*F13 | G14: =G9*G13 | H14: =H9*H13 | I14: =I9*I13 | J14: =J9*J13 | K14: =K9*K13
A15: Gross profit | C15: =C12+C14 | D15: =D12+D14 | E15: =E12+E14 | F15: =F12+F14 | G15: =G12+G14 | H15: =H12+H14 | I15: =I12+I14 | J15: =J12+J14 | K15: =K12+K14
A16: Gross margin | C16: =IF(C10=0,0,C15/C10) | D16: =IF(D10=0,0,D15/D10) | E16: =IF(E10=0,0,E15/E10) | F16: =IF(F10=0,0,F15/F10) | G16: =IF(G10=0,0,G15/G10) | H16: =IF(H10=0,0,H15/H10) | I16: =IF(I10=0,0,I15/I10) | J16: =IF(J10=0,0,J15/J10) | K16: =IF(K10=0,0,K15/K10)
A17: R&D + SG&A incl. SBC | C17: =Scenarios!B12 | D17: =Scenarios!C12 | E17: =Scenarios!D12 | F17: =Scenarios!E12 | G17: =Scenarios!F12 | H17: =Scenarios!G12 | I17: =Scenarios!H12 | J17: =Scenarios!I12 | K17: =Scenarios!J12
A18: EBIT | C18: =C15-C17 | D18: =D15-D17 | E18: =E15-E17 | F18: =F15-F17 | G18: =G15-G17 | H18: =H15-H17 | I18: =I15-I17 | J18: =J15-J17 | K18: =K15-K17
A19: EBIT margin | C19: =IF(C10=0,0,C18/C10) | D19: =IF(D10=0,0,D18/D10) | E19: =IF(E10=0,0,E18/E10) | F19: =IF(F10=0,0,F18/F10) | G19: =IF(G10=0,0,G18/G10) | H19: =IF(H10=0,0,H18/H10) | I19: =IF(I10=0,0,I18/I10) | J19: =IF(J10=0,0,J18/J10) | K19: =IF(K10=0,0,K18/K10)
A20: Depreciation & amortization | C20: =Scenarios!B13 | D20: =Scenarios!C13 | E20: =Scenarios!D13 | F20: =Scenarios!E13 | G20: =Scenarios!F13 | H20: =Scenarios!G13 | I20: =Scenarios!H13 | J20: =Scenarios!I13 | K20: =Scenarios!J13
A21: EBITDA | C21: =C18+C20 | D21: =D18+D20 | E21: =E18+E20 | F21: =F18+F20 | G21: =G18+G20 | H21: =H18+H20 | I21: =I18+I20 | J21: =J18+J20 | K21: =K18+K20
A22: Capital expenditures | C22: =Scenarios!B14 | D22: =Scenarios!C14 | E22: =Scenarios!D14 | F22: =Scenarios!E14 | G22: =Scenarios!F14 | H22: =Scenarios!G14 | I22: =Scenarios!H14 | J22: =Scenarios!I14 | K22: =Scenarios!J14
A23: Change in net working capital | C23: =Inputs!$C$30*(C10-Inputs!$C$13) | D23: =Inputs!$C$30*(D10-C10) | E23: =Inputs!$C$30*(E10-D10) | F23: =Inputs!$C$30*(F10-E10) | G23: =Inputs!$C$30*(G10-F10) | H23: =Inputs!$C$30*(H10-G10) | I23: =Inputs!$C$30*(I10-H10) | J23: =Inputs!$C$30*(J10-I10) | K23: =Inputs!$C$30*(K10-J10)
A24: Unlevered free cash flow | C24: =C18+C20-C22-C23 | D24: =D18+D20-D22-D23 | E24: =E18+E20-E22-E23 | F24: =F18+F20-F22-F23 | G24: =G18+G20-G22-G23 | H24: =H18+H20-H22-H23 | I24: =I18+I20-I22-I23 | J24: =J18+J20-J22-J23 | K24: =K18+K20-K22-K23
A25: Discount period (years) | C25: =2027+0.5-Inputs!$C$12 | D25: =2028+0.5-Inputs!$C$12 | E25: =2029+0.5-Inputs!$C$12 | F25: =2030+0.5-Inputs!$C$12 | G25: =2031+0.5-Inputs!$C$12 | H25: =2032+0.5-Inputs!$C$12 | I25: =2033+0.5-Inputs!$C$12 | J25: =2034+0.5-Inputs!$C$12 | K25: =2035+0.5-Inputs!$C$12
A26: Discount factor | C26: =1/(1+Inputs!$C$24)^C25 | D26: =1/(1+Inputs!$C$24)^D25 | E26: =1/(1+Inputs!$C$24)^E25 | F26: =1/(1+Inputs!$C$24)^F25 | G26: =1/(1+Inputs!$C$24)^G25 | H26: =1/(1+Inputs!$C$24)^H25 | I26: =1/(1+Inputs!$C$24)^I25 | J26: =1/(1+Inputs!$C$24)^J25 | K26: =1/(1+Inputs!$C$24)^K25
A27: PV of unlevered FCF | C27: =C24*C26 | D27: =D24*D26 | E27: =E24*E26 | F27: =F24*F26 | G27: =G24*G26 | H27: =H24*H26 | I27: =I24*I26 | J27: =J24*J26 | K27: =K24*K26
A29: Normalized terminal FCF (2035) | C29: =K18*(1-Inputs!$C$28)+K20*(1-Inputs!$C$29)-Inputs!$C$30*K10*Inputs!$C$27
A30: Terminal value, exit multiple | C30: =K21*Inputs!$C$26
A31: Terminal value, perpetual growth (cross-check) | C31: =$C$29*(1+Inputs!$C$27)/(Inputs!$C$24-Inputs!$C$27)
A32: PV of 2027-2035 FCF + H2 2026 stub | C32: =SUM(C27:K27)+Inputs!$C$11
A33: PV of terminal value (exit multiple, end-2035 value) | C33: =$C$30/(1+Inputs!$C$24)^(K25+0.5)
A34: Enterprise value | C34: =$C$32+$C$33
A35: Equity value | C35: =$C$34+Inputs!$C$8
A36: DCF value per share ($) | C36: =MAX(0,$C$35*1000/Inputs!$C$5)
A37: Strategic floor per share ($) | C37: =(Inputs!$C$35*C10+Inputs!$C$8)*1000/Inputs!$C$5
A38: Value per share ($) | C38: =MAX($C$36,$C$37)
A39: Cross-check: value per share at perpetual growth ($) | C39: =MAX(0,($C$32+$C$31*K26+Inputs!$C$8)*1000/Inputs!$C$5)
A40: Perpetual growth implied by the exit multiple | C40: =($C$30*Inputs!$C$24-$C$29)/($C$30+$C$29)
A43: Base case
A44: Line item | C44: 2027 | D44: 2028 | E44: 2029 | F44: 2030 | G44: 2031 | H44: 2032 | I44: 2033 | J44: 2034 | K44: 2035
...

Sheet History
A1: Reported results ($bn; deliveries in thousands)
A3: Line item | B3: FY2024 | C3: FY2025 | D3: Q2 2025 | E3: Q1 2026 | F3: Q2 2026
A4: Deliveries (thousands) | B4: 51.579 | C4: 42.247 | D4: 10.661 | E4: 10.365 | F4: 12.194
A5: Automotive revenue | B5: 4.486 | C5: 3.83 | D5: 0.927 | E5: 0.908 | F5: 1.143
A6: Software & services revenue | B6: 0.484 | C6: 1.557 | D6: 0.376 | E6: 0.473 | F6: 0.515
A7: Total revenue | B7: =B5+B6 | C7: =C5+C6 | D7: =D5+D6 | E7: =E5+E6 | F7: =F5+F6
A8: Gross profit | B8: -1.2 | C8: 0.144 | D8: -0.206 | E8: 0.119 | F8: 0.179
A9: Gross margin | B9: =IF(B7=0,0,B8/B7) | C9: =IF(C7=0,0,C8/C7) | D9: =IF(D7=0,0,D8/D7) | E9: =IF(E7=0,0,E8/E7) | F9: =IF(F7=0,0,F8/F7)
A10: R&D | B10: 1.613 | C10: 1.668 | D10: 0.41 | E10: 0.458 | F10: 0.466
A11: SG&A | B11: 1.876 | C11: 2.061 | D11: 0.498 | E11: 0.542 | F11: 0.549
A12: Loss from operations | B12: -4.689 | C12: -3.585 | D12: -1.114 | E12: -0.881 | F12: -0.836
A13: Capital expenditures | B13: 1.141 | C13: 1.71 | D13: 0.462 | E13: 0.372 | F13: 0.362
A14: Free cash flow | B14: n/a | C14: n/a | D14: -0.398 | E14: -1.075 | F14: -0.849
A15: Depreciation & amortization | B15: 1.031 | C15: 0.784 | D15: 0.254 | E15: 0.202 | F15: 0.227
A16: Stock-based compensation | B16: 0.692 | C16: 0.741 | D16: 0.195 | E16: 0.207 | F16: 0.226
A19: Sources
A20: FY2024 and FY2025: Q4/FY2025 earnings release, 8-K Ex. 99.1, filed 2026-02-12, https://www.sec.gov/Archives/edgar/data/1874178/000187417826000007/ex-991pressrelease4q25earn.htm
A21: Q1 2026: Q1 2026 earnings release, 8-K Ex. 99.1, filed 2026-04-30, https://www.sec.gov/Archives/edgar/data/1874178/000187417826000033/ex-9911q26rivianearningspr.htm
A22: Q2 2026 and Q2 2025: Q2 2026 earnings release, 8-K Ex. 99.1, 2026-07-30, https://www.sec.gov/Archives/edgar/data/1874178/000187417826000053/ex-9912q26rivianearningspr.htm
A23: FY free cash flow is not printed in the FY2025 release; quarterly figures are. Q1 2026 loss from operations as printed in the Q1 release.
